Package: isomiRs Version: 1.38.0 Command: /home/biocbuild/bbs-3.22-bioc/R/bin/R CMD build --keep-empty-dirs --no-resave-data --md5 isomiRs StartedAt: 2025-11-17 21:41:05 -0500 (Mon, 17 Nov 2025) EndedAt: 2025-11-17 21:42:24 -0500 (Mon, 17 Nov 2025) EllapsedTime: 79.1 seconds RetCode: 0 Status: OK PackageFile: isomiRs_1.38.0.tar.gz PackageFileSize: 4.166 MiB