Package: isobar Version: 1.56.0 Command: /home/biocbuild/bbs-3.22-bioc/R/bin/R CMD INSTALL isobar StartedAt: 2025-11-11 15:30:35 -0500 (Tue, 11 Nov 2025) EndedAt: 2025-11-11 15:31:07 -0500 (Tue, 11 Nov 2025) EllapsedTime: 31.4 seconds RetCode: 0 Status: OK