Package: isobar Version: 1.56.0 Command: /home/biocbuild/bbs-3.22-bioc/R/bin/R CMD build --keep-empty-dirs --no-resave-data --md5 isobar StartedAt: 2025-11-11 18:24:20 -0500 (Tue, 11 Nov 2025) EndedAt: 2025-11-11 18:25:32 -0500 (Tue, 11 Nov 2025) EllapsedTime: 72.1 seconds RetCode: 0 Status: OK PackageFile: isobar_1.56.0.tar.gz PackageFileSize: 2.814 MiB