Package: isobar Version: 1.56.0 Command: /Library/Frameworks/R.framework/Resources/bin/R CMD INSTALL isobar StartedAt: 2025-11-03 15:28:49 -0500 (Mon, 03 Nov 2025) EndedAt: 2025-11-03 15:29:32 -0500 (Mon, 03 Nov 2025) EllapsedTime: 42.7 seconds RetCode: 0 Status: OK