Package: isobar Version: 1.56.0 Command: rm -rf isobar.buildbin-libdir && mkdir isobar.buildbin-libdir && /Users/biocbuild/BBS/utils/build-universal.sh isobar_1.56.0.tar.gz /Library/Frameworks/R.framework/Resources/bin/R isobar.buildbin-libdir StartedAt: 2025-11-04 01:46:20 -0500 (Tue, 04 Nov 2025) EndedAt: 2025-11-04 01:47:06 -0500 (Tue, 04 Nov 2025) EllapsedTime: 46.0 seconds RetCode: 0 Status: OK PackageFile: isobar_1.56.0.tgz PackageFileSize: 3.895 MiB