Package: islify Version: 1.2.0 Command: /Library/Frameworks/R.framework/Resources/bin/R CMD INSTALL islify StartedAt: 2025-11-03 15:19:57 -0500 (Mon, 03 Nov 2025) EndedAt: 2025-11-03 15:20:12 -0500 (Mon, 03 Nov 2025) EllapsedTime: 14.8 seconds RetCode: 0 Status: OK