Package: islify Version: 1.2.0 Command: rm -rf islify.buildbin-libdir && mkdir islify.buildbin-libdir && /Users/biocbuild/BBS/utils/build-universal.sh islify_1.2.0.tar.gz /Library/Frameworks/R.framework/Resources/bin/R islify.buildbin-libdir StartedAt: 2025-11-04 01:46:20 -0500 (Tue, 04 Nov 2025) EndedAt: 2025-11-04 01:46:39 -0500 (Tue, 04 Nov 2025) EllapsedTime: 19.5 seconds RetCode: 0 Status: OK PackageFile: islify_1.2.0.tgz PackageFileSize: 2.082 MiB