Package: islify Version: 1.0.0 Command: /home/biocbuild/R/R/bin/R CMD INSTALL islify StartedAt: 2025-10-13 20:25:09 -0000 (Mon, 13 Oct 2025) EndedAt: 2025-10-13 20:25:26 -0000 (Mon, 13 Oct 2025) EllapsedTime: 17.0 seconds RetCode: 0 Status: OK