Package: islify Version: 1.0.0 Command: /home/biocbuild/R/R/bin/R CMD build --keep-empty-dirs --no-resave-data islify StartedAt: 2025-10-14 01:54:43 -0000 (Tue, 14 Oct 2025) EndedAt: 2025-10-14 01:55:11 -0000 (Tue, 14 Oct 2025) EllapsedTime: 28.0 seconds RetCode: 0 Status: OK PackageFile: islify_1.0.0.tar.gz PackageFileSize: 3.107 MiB