Package: iscream Version: 1.0.0 Command: /home/biocbuild/bbs-3.22-bioc/R/bin/R CMD INSTALL iscream StartedAt: 2025-11-11 15:15:09 -0500 (Tue, 11 Nov 2025) EndedAt: 2025-11-11 15:17:01 -0500 (Tue, 11 Nov 2025) EllapsedTime: 112.0 seconds RetCode: 0 Status: OK