Package: iscream Version: 1.0.0 Command: /Library/Frameworks/R.framework/Resources/bin/R CMD INSTALL iscream StartedAt: 2025-11-10 15:06:11 -0500 (Mon, 10 Nov 2025) EndedAt: 2025-11-10 15:06:36 -0500 (Mon, 10 Nov 2025) EllapsedTime: 24.9 seconds RetCode: 0 Status: OK