Package: iscream Version: 1.0.0 Command: rm -rf iscream.buildbin-libdir && mkdir iscream.buildbin-libdir && /Users/biocbuild/BBS/utils/build-universal.sh iscream_1.0.0.tar.gz /Library/Frameworks/R.framework/Resources/bin/R iscream.buildbin-libdir StartedAt: 2025-11-10 23:24:11 -0500 (Mon, 10 Nov 2025) EndedAt: 2025-11-10 23:24:42 -0500 (Mon, 10 Nov 2025) EllapsedTime: 30.6 seconds RetCode: 0 Status: OK PackageFile: iscream_1.0.0.tgz PackageFileSize: 6.137 MiB