Package: ipdDb Version: 1.28.0 Command: /home/biocbuild/bbs-3.22-bioc/R/bin/R CMD INSTALL ipdDb StartedAt: 2025-11-11 15:30:07 -0500 (Tue, 11 Nov 2025) EndedAt: 2025-11-11 15:30:23 -0500 (Tue, 11 Nov 2025) EllapsedTime: 16.1 seconds RetCode: 0 Status: OK