Package: ipdDb Version: 1.28.0 Command: /home/biocbuild/bbs-3.22-bioc/R/bin/R CMD check --install=check:ipdDb.install-out.txt --library=/home/biocbuild/bbs-3.22-bioc/R/site-library --timings ipdDb_1.28.0.tar.gz StartedAt: 2025-11-18 05:14:44 -0500 (Tue, 18 Nov 2025) EndedAt: 2025-11-18 05:17:40 -0500 (Tue, 18 Nov 2025) EllapsedTime: 175.2 seconds RetCode: 0 Status: OK CheckDir: ipdDb.Rcheck Warnings: 0