Package: ipdDb Version: 1.26.0 Command: /home/biocbuild/R/R/bin/R CMD INSTALL ipdDb StartedAt: 2025-10-13 20:39:53 -0000 (Mon, 13 Oct 2025) EndedAt: 2025-10-13 20:40:15 -0000 (Mon, 13 Oct 2025) EllapsedTime: 21.5 seconds RetCode: 0 Status: OK