Package: interactiveDisplayBase Version: 1.48.0 Command: /home/biocbuild/R/R/bin/R CMD INSTALL interactiveDisplayBase StartedAt: 2025-11-10 21:17:24 -0000 (Mon, 10 Nov 2025) EndedAt: 2025-11-10 21:17:31 -0000 (Mon, 10 Nov 2025) EllapsedTime: 6.9 seconds RetCode: 0 Status: OK