Package: interactiveDisplayBase Version: 1.48.0 Command: /home/biocbuild/R/R/bin/R CMD build --keep-empty-dirs --no-resave-data interactiveDisplayBase StartedAt: 2025-11-11 02:38:03 -0000 (Tue, 11 Nov 2025) EndedAt: 2025-11-11 02:38:10 -0000 (Tue, 11 Nov 2025) EllapsedTime: 7.0 seconds RetCode: 0 Status: OK PackageFile: interactiveDisplayBase_1.48.0.tar.gz PackageFileSize: 8.096 KiB