Package: interactiveDisplay Version: 1.48.0 Command: /home/biocbuild/R/R/bin/R CMD INSTALL interactiveDisplay StartedAt: 2025-11-10 22:05:42 -0000 (Mon, 10 Nov 2025) EndedAt: 2025-11-10 22:06:14 -0000 (Mon, 10 Nov 2025) EllapsedTime: 31.8 seconds RetCode: 0 Status: OK