Package: interactiveDisplay Version: 1.48.0 Command: /home/biocbuild/R/R/bin/R CMD build --keep-empty-dirs --no-resave-data interactiveDisplay StartedAt: 2025-11-11 02:37:47 -0000 (Tue, 11 Nov 2025) EndedAt: 2025-11-11 02:38:53 -0000 (Tue, 11 Nov 2025) EllapsedTime: 66.0 seconds RetCode: 0 Status: OK PackageFile: interactiveDisplay_1.48.0.tar.gz PackageFileSize: 4.557 MiB