Package: interactiveDisplay Version: 1.48.0 Command: /home/biocbuild/bbs-3.22-bioc/R/bin/R CMD check --install=check:interactiveDisplay.install-out.txt --library=/home/biocbuild/bbs-3.22-bioc/R/site-library --timings interactiveDisplay_1.48.0.tar.gz StartedAt: 2025-11-12 00:44:44 -0500 (Wed, 12 Nov 2025) EndedAt: 2025-11-12 00:48:30 -0500 (Wed, 12 Nov 2025) EllapsedTime: 225.2 seconds RetCode: 0 Status: OK CheckDir: interactiveDisplay.Rcheck Warnings: 0