Package: interacCircos Version: 1.20.0 Command: /home/biocbuild/R/R/bin/R CMD INSTALL interacCircos StartedAt: 2025-11-13 21:09:59 -0000 (Thu, 13 Nov 2025) EndedAt: 2025-11-13 21:11:03 -0000 (Thu, 13 Nov 2025) EllapsedTime: 63.7 seconds RetCode: 0 Status: OK