Package: interacCircos Version: 1.18.0 Command: /home/biocbuild/bbs-3.21-bioc/R/bin/R CMD INSTALL interacCircos StartedAt: 2025-10-12 15:06:59 -0400 (Sun, 12 Oct 2025) EndedAt: 2025-10-12 15:07:30 -0400 (Sun, 12 Oct 2025) EllapsedTime: 30.4 seconds RetCode: 0 Status: OK