Package: interacCircos Version: 1.18.0 Command: /home/biocbuild/bbs-3.21-bioc/R/bin/R CMD build --keep-empty-dirs --no-resave-data interacCircos StartedAt: 2025-10-12 18:05:16 -0400 (Sun, 12 Oct 2025) EndedAt: 2025-10-12 18:05:23 -0400 (Sun, 12 Oct 2025) EllapsedTime: 7.0 seconds RetCode: 0 Status: OK PackageFile: interacCircos_1.18.0.tar.gz PackageFileSize: 710.4 KiB