Package: interacCircos Version: 1.18.0 Command: /Library/Frameworks/R.framework/Resources/bin/R CMD INSTALL interacCircos StartedAt: 2025-10-13 15:19:31 -0400 (Mon, 13 Oct 2025) EndedAt: 2025-10-13 15:19:41 -0400 (Mon, 13 Oct 2025) EllapsedTime: 10.2 seconds RetCode: 0 Status: OK