Package: interacCircos Version: 1.20.0 Maintainer: Zhe Cui MaintainerEmail: mrcuizhe at gmail.com git_url: https://git.bioconductor.org/packages/interacCircos git_branch: RELEASE_3_22 git_last_commit: 62873b8 git_last_commit_date: 2025-10-29 11:08:25 -0400 (Wed, 29 Oct 2025)