Package: intansv Version: 1.50.0 Command: /home/biocbuild/bbs-3.22-bioc/R/bin/R CMD build --keep-empty-dirs --no-resave-data --md5 intansv StartedAt: 2025-11-11 18:20:30 -0500 (Tue, 11 Nov 2025) EndedAt: 2025-11-11 18:21:59 -0500 (Tue, 11 Nov 2025) EllapsedTime: 89.0 seconds RetCode: 0 Status: OK PackageFile: intansv_1.50.0.tar.gz PackageFileSize: 615.7 KiB