Package: intansv Version: 1.50.0 Command: /Library/Frameworks/R.framework/Resources/bin/R CMD INSTALL intansv StartedAt: 2025-11-03 15:49:20 -0500 (Mon, 03 Nov 2025) EndedAt: 2025-11-03 15:50:28 -0500 (Mon, 03 Nov 2025) EllapsedTime: 68.2 seconds RetCode: 0 Status: OK