Package: intansv Version: 1.50.0 Command: /Library/Frameworks/R.framework/Resources/bin/R CMD build --keep-empty-dirs --no-resave-data intansv StartedAt: 2025-11-03 17:28:08 -0500 (Mon, 03 Nov 2025) EndedAt: 2025-11-03 17:29:54 -0500 (Mon, 03 Nov 2025) EllapsedTime: 106.3 seconds RetCode: 0 Status: OK PackageFile: intansv_1.50.0.tar.gz PackageFileSize: 613 KiB