Package: intansv Version: 1.48.0 Command: /home/biocbuild/R/R/bin/R CMD INSTALL intansv StartedAt: 2025-10-09 21:01:50 -0000 (Thu, 09 Oct 2025) EndedAt: 2025-10-09 21:03:04 -0000 (Thu, 09 Oct 2025) EllapsedTime: 73.9 seconds RetCode: 0 Status: OK