Package: intansv Version: 1.48.0 Command: /home/biocbuild/R/R/bin/R CMD build --keep-empty-dirs --no-resave-data intansv StartedAt: 2025-10-10 01:50:35 -0000 (Fri, 10 Oct 2025) EndedAt: 2025-10-10 01:52:52 -0000 (Fri, 10 Oct 2025) EllapsedTime: 137.0 seconds RetCode: 0 Status: OK PackageFile: intansv_1.48.0.tar.gz PackageFileSize: 609.7 KiB