Package: infinityFlow Version: 1.20.0 Command: /home/biocbuild/R/R/bin/R CMD INSTALL infinityFlow StartedAt: 2025-11-13 21:20:27 -0000 (Thu, 13 Nov 2025) EndedAt: 2025-11-13 21:20:59 -0000 (Thu, 13 Nov 2025) EllapsedTime: 31.9 seconds RetCode: 0 Status: OK