Package: infinityFlow Version: 1.20.0 Command: /home/biocbuild/R/R/bin/R CMD build --keep-empty-dirs --no-resave-data infinityFlow StartedAt: 2025-11-14 02:39:38 -0000 (Fri, 14 Nov 2025) EndedAt: 2025-11-14 02:43:49 -0000 (Fri, 14 Nov 2025) EllapsedTime: 251.1 seconds RetCode: 0 Status: OK PackageFile: infinityFlow_1.20.0.tar.gz PackageFileSize: 1.711 MiB