Package: infinityFlow Version: 1.20.0 Command: /home/biocbuild/bbs-3.22-bioc/R/bin/R CMD check --install=check:infinityFlow.install-out.txt --library=/home/biocbuild/bbs-3.22-bioc/R/site-library --timings infinityFlow_1.20.0.tar.gz StartedAt: 2025-11-12 00:42:42 -0500 (Wed, 12 Nov 2025) EndedAt: 2025-11-12 00:48:45 -0500 (Wed, 12 Nov 2025) EllapsedTime: 362.3 seconds RetCode: 0 Status: OK CheckDir: infinityFlow.Rcheck Warnings: 0