Package: infinityFlow Version: 1.18.0 Command: rm -rf infinityFlow.buildbin-libdir && mkdir infinityFlow.buildbin-libdir && /Users/biocbuild/BBS/utils/build-universal.sh infinityFlow_1.18.0.tar.gz /Library/Frameworks/R.framework/Resources/bin/R infinityFlow.buildbin-libdir StartedAt: 2025-04-22 00:50:49 -0400 (Tue, 22 Apr 2025) EndedAt: 2025-04-22 00:51:24 -0400 (Tue, 22 Apr 2025) EllapsedTime: 35.6 seconds RetCode: 0 Status: OK PackageFile: infinityFlow_1.18.0.tgz PackageFileSize: 1.774 MiB