Package: infinityFlow Version: 1.18.0 Command: /home/biocbuild/R/R/bin/R CMD build --keep-empty-dirs --no-resave-data infinityFlow StartedAt: 2025-09-26 02:41:25 -0000 (Fri, 26 Sep 2025) EndedAt: 2025-09-26 02:45:49 -0000 (Fri, 26 Sep 2025) EllapsedTime: 264.1 seconds RetCode: 0 Status: OK PackageFile: infinityFlow_1.18.0.tar.gz PackageFileSize: 1.712 MiB