Package: infinityFlow Version: 1.20.0 Maintainer: Etienne Becht MaintainerEmail: etienne.becht at protonmail.com git_url: https://git.bioconductor.org/packages/infinityFlow git_branch: RELEASE_3_22 git_last_commit: 0cce204 git_last_commit_date: 2025-10-29 11:00:49 -0400 (Wed, 29 Oct 2025)