Package: immunogenViewer Version: 1.4.0 Command: /home/biocbuild/R/R/bin/R CMD INSTALL immunogenViewer StartedAt: 2025-11-10 21:40:15 -0000 (Mon, 10 Nov 2025) EndedAt: 2025-11-10 21:40:37 -0000 (Mon, 10 Nov 2025) EllapsedTime: 21.9 seconds RetCode: 0 Status: OK