Package: immunogenViewer Version: 1.4.0 Command: /home/biocbuild/bbs-3.22-bioc/R/bin/R CMD INSTALL immunogenViewer StartedAt: 2025-11-13 15:33:38 -0500 (Thu, 13 Nov 2025) EndedAt: 2025-11-13 15:33:53 -0500 (Thu, 13 Nov 2025) EllapsedTime: 14.6 seconds RetCode: 0 Status: OK