Package: immunogenViewer Version: 1.2.0 Command: /Library/Frameworks/R.framework/Resources/bin/R CMD build --keep-empty-dirs --no-resave-data immunogenViewer StartedAt: 2025-10-09 19:51:36 -0400 (Thu, 09 Oct 2025) EndedAt: 2025-10-09 19:52:38 -0400 (Thu, 09 Oct 2025) EllapsedTime: 62.0 seconds RetCode: 1 Status: ERROR PackageFile: None PackageFileSize: NA