Package: immunoClust Version: 1.42.0 Command: /home/biocbuild/bbs-3.22-bioc/R/bin/R CMD INSTALL immunoClust StartedAt: 2025-11-03 15:13:47 -0500 (Mon, 03 Nov 2025) EndedAt: 2025-11-03 15:14:13 -0500 (Mon, 03 Nov 2025) EllapsedTime: 25.2 seconds RetCode: 0 Status: OK