Package: immApex Version: 1.4.0 Command: /Library/Frameworks/R.framework/Resources/bin/R CMD INSTALL immApex StartedAt: 2025-11-10 15:14:26 -0500 (Mon, 10 Nov 2025) EndedAt: 2025-11-10 15:14:40 -0500 (Mon, 10 Nov 2025) EllapsedTime: 13.3 seconds RetCode: 0 Status: OK