Package: immApex Version: 1.4.0 Command: rm -rf immApex.buildbin-libdir && mkdir immApex.buildbin-libdir && /Users/biocbuild/BBS/utils/build-universal.sh immApex_1.4.0.tar.gz /Library/Frameworks/R.framework/Resources/bin/R immApex.buildbin-libdir StartedAt: 2025-11-10 23:23:45 -0500 (Mon, 10 Nov 2025) EndedAt: 2025-11-10 23:24:00 -0500 (Mon, 10 Nov 2025) EllapsedTime: 15.4 seconds RetCode: 0 Status: OK PackageFile: immApex_1.4.0.tgz PackageFileSize: 2.458 MiB