Package: imcRtools Version: 1.16.0 Command: /home/biocbuild/bbs-3.22-bioc/R/bin/R CMD INSTALL imcRtools StartedAt: 2025-11-11 15:41:00 -0500 (Tue, 11 Nov 2025) EndedAt: 2025-11-11 15:41:56 -0500 (Tue, 11 Nov 2025) EllapsedTime: 56.7 seconds RetCode: 0 Status: OK