Package: imcRtools Version: 1.16.0 Command: /Library/Frameworks/R.framework/Resources/bin/R CMD build --keep-empty-dirs --no-resave-data imcRtools StartedAt: 2025-11-10 16:45:19 -0500 (Mon, 10 Nov 2025) EndedAt: 2025-11-10 16:46:47 -0500 (Mon, 10 Nov 2025) EllapsedTime: 87.9 seconds RetCode: 0 Status: OK PackageFile: imcRtools_1.16.0.tar.gz PackageFileSize: 10.33 MiB