Package: imageTCGA Version: 1.2.0 Command: /home/biocbuild/R/R/bin/R CMD build --keep-empty-dirs --no-resave-data imageTCGA StartedAt: 2025-11-14 02:37:24 -0000 (Fri, 14 Nov 2025) EndedAt: 2025-11-14 02:37:44 -0000 (Fri, 14 Nov 2025) EllapsedTime: 20.0 seconds RetCode: 0 Status: OK PackageFile: imageTCGA_1.2.0.tar.gz PackageFileSize: 2.669 MiB