Package: imageTCGA Version: 1.2.0 Command: /home/biocbuild/bbs-3.22-bioc/R/bin/R CMD INSTALL imageTCGA StartedAt: 2025-11-11 15:15:16 -0500 (Tue, 11 Nov 2025) EndedAt: 2025-11-11 15:15:22 -0500 (Tue, 11 Nov 2025) EllapsedTime: 6.0 seconds RetCode: 0 Status: OK