Package: imageTCGA Version: 1.2.0 Command: /home/biocbuild/bbs-3.22-bioc/R/bin/R CMD check --install=check:imageTCGA.install-out.txt --library=/home/biocbuild/bbs-3.22-bioc/R/site-library --timings imageTCGA_1.2.0.tar.gz StartedAt: 2025-11-14 00:45:48 -0500 (Fri, 14 Nov 2025) EndedAt: 2025-11-14 00:46:42 -0500 (Fri, 14 Nov 2025) EllapsedTime: 54.1 seconds RetCode: 0 Status: OK CheckDir: imageTCGA.Rcheck Warnings: 0