Package: imageTCGA Version: 1.0.0 Command: /home/biocbuild/bbs-3.21-bioc/R/bin/R CMD INSTALL imageTCGA StartedAt: 2025-10-15 15:10:27 -0400 (Wed, 15 Oct 2025) EndedAt: 2025-10-15 15:10:33 -0400 (Wed, 15 Oct 2025) EllapsedTime: 5.5 seconds RetCode: 0 Status: OK