Package: imageTCGA Version: 1.0.0 Command: /home/biocbuild/bbs-3.21-bioc/R/bin/R CMD build --keep-empty-dirs --no-resave-data imageTCGA StartedAt: 2025-10-15 18:03:42 -0400 (Wed, 15 Oct 2025) EndedAt: 2025-10-15 18:03:55 -0400 (Wed, 15 Oct 2025) EllapsedTime: 13.0 seconds RetCode: 0 Status: OK PackageFile: imageTCGA_1.0.0.tar.gz PackageFileSize: 2.604 MiB