Package: imageTCGA Version: 1.2.0 Command: /Library/Frameworks/R.framework/Resources/bin/R CMD build --keep-empty-dirs --no-resave-data imageTCGA StartedAt: 2025-11-20 20:55:55 -0500 (Thu, 20 Nov 2025) EndedAt: 2025-11-20 20:56:38 -0500 (Thu, 20 Nov 2025) EllapsedTime: 43.5 seconds RetCode: 0 Status: OK PackageFile: imageTCGA_1.2.0.tar.gz PackageFileSize: 2.604 MiB